BEGIN:VCALENDAR
VERSION:2.0
PRODID:Imitheme.com 
BEGIN:VEVENT
UID:20260423T1519431639149030
DTSTAMP;TZID=UTC:2026-04-23 15:19:43
DTSTART;TZID=America/Los_Angeles:20230119T000000
DTEND;TZID=America/Los_Angeles:20230119T000000
SUMMARY:A Potpourri of Gynecologic Pathology
LOCATION:Zoom - Video Conference
DESCRIPTION:POSTPONED UNTIL FURTHER NOTICE.   Please email contact@nypathsociety.org if you are experiencing any issues.  
URL:https://nypathsociety.org/meeting/a-potpourri-of-gynecologic-pathology/
END:VEVENT
END:VCALENDAR
