BEGIN:VCALENDAR
VERSION:2.0
PRODID:Imitheme.com 
BEGIN:VEVENT
UID:20260423T152118595594202
DTSTAMP;TZID=UTC:2026-04-23 15:21:18
DTSTART;TZID=America/Los_Angeles:20211118T000000
DTEND;TZID=America/Los_Angeles:20211118T000000
SUMMARY:Breast Core  Needle Biopsies:  Approaches and Pitfalls
LOCATION:Zoom - Video Conference
DESCRIPTION:Please email contact@nypathsociety.org if you are experiencing any registration related issues.  
URL:https://nypathsociety.org/meeting/breast-core-needle-biopsies-approaches-and-pitfalls/
END:VEVENT
END:VCALENDAR
