BEGIN:VCALENDAR
VERSION:2.0
PRODID:Imitheme.com 
BEGIN:VEVENT
UID:20260423T173039549406679
DTSTAMP;TZID=UTC:2026-04-23 17:30:39
DTSTART;TZID=America/Los_Angeles:20210218T000000
DTEND;TZID=America/Los_Angeles:20210218T000000
SUMMARY:Lobular Neoplasia and its Lookalikes
LOCATION:Zoom - Video Conference
DESCRIPTION: Please email contact@nypathsociety.org if you are experiencing any registration related issues. Case Slides: click here
URL:https://nypathsociety.org/meeting/lobular-neoplasia-and-its-lookalikes/
END:VEVENT
END:VCALENDAR
