BEGIN:VCALENDAR
VERSION:2.0
PRODID:Imitheme.com 
BEGIN:VEVENT
UID:20260423T1406131346382492
DTSTAMP;TZID=UTC:2026-04-23 14:06:13
DTSTART;TZID=America/Los_Angeles:20210501T000000
DTEND;TZID=America/Los_Angeles:20210501T000000
SUMMARY:The Jean Redmond Oliver President’s Symposium
LOCATION:Zoom - Video Conference
DESCRIPTION:   Please email contact@nypathsociety.org if you are experiencing any registration related issues.  
URL:https://nypathsociety.org/meeting/the-jean-redmond-oliver-presidents-symposium/
END:VEVENT
END:VCALENDAR
