BEGIN:VCALENDAR
VERSION:2.0
PRODID:Imitheme.com 
BEGIN:VEVENT
UID:20260423T154518309978485
DTSTAMP;TZID=UTC:2026-04-23 15:45:18
DTSTART;TZID=America/Los_Angeles:20210415T000000
DTEND;TZID=America/Los_Angeles:20210415T000000
SUMMARY:The Diagnosis of IgG4 Related Disease: Tales from the Trenches
LOCATION:Zoom - Video Conference
DESCRIPTION: Please email contact@nypathsociety.org if you are experiencing any registration related issues.  
URL:https://nypathsociety.org/meeting/the-diagnosis-of-igg4-related-disease-tales-from-the-trenches/
END:VEVENT
END:VCALENDAR
