BEGIN:VCALENDAR
VERSION:2.0
PRODID:Imitheme.com 
BEGIN:VEVENT
UID:20260423T2043402024906553
DTSTAMP;TZID=UTC:2026-04-23 20:43:40
DTSTART;TZID=America/Los_Angeles:20201112T000000
DTEND;TZID=America/Los_Angeles:20201112T000000
SUMMARY:Gastric Polyps: Evaluation and Management of Old Friends and New Acquaintances
LOCATION:Zoom - Video Conference
DESCRIPTION: Joint Providership Accreditation Statement: Must Read: This activity has been planned and implemented in accordance with the accreditation requirements and policies of the Accreditation Council for Continuing Medical Education (ACCME) through the joint providership of the College of American Pathologists and the New York Pathological Society. The College of American Pathologists is accredited by the ACCME to provide continuing medical education for physicians. Credit Designation Statement: Must Read: The College of American Pathologists designates this live educational activity for a maximum of 2 AMA PRA Category 1 Credit(s)™. Physicians should claim only credit commensurate with the extent of their participation in the activity. Disclaimer: Must Read: The content of this CME activity does not necessarily reflect the view or policies of the College of American Pathologists. Learning Objectives: 1) Be up to date on current classification of common and uncommon gastric polyps 2) Appreciate diagnostic differential of gastric hyperplastic polyps 3) Recognize the features of unusual gastric polyps Organizer(s): Isabel Fiel, MD - President Nada Farhat, MD - Vice President Greg Lauwers, MD- Speaker   A resident or fellow trainee qualifies for junior membership.  
URL:https://nypathsociety.org/meeting/gastric-polyps-evaluation-and-management-of-old-friends-and-new-acquaintances/
END:VEVENT
END:VCALENDAR
