BEGIN:VCALENDAR
VERSION:2.0
PRODID:Imitheme.com 
BEGIN:VEVENT
UID:20260423T2344311538835228
DTSTAMP;TZID=UTC:2026-04-23 23:44:31
DTSTART;TZID=America/Los_Angeles:20201015T000000
DTEND;TZID=America/Los_Angeles:20201015T000000
SUMMARY:Reflections about the Clinical Microbiology Laboratory Response to the COVID-19 Pandemic: Testing, Science, and "Making it Work"
LOCATION:Zoom - Video Conference
DESCRIPTION: Joint Providership Accreditation Statement: Must Read: This activity has been planned and implemented in accordance with the accreditation requirements and policies of the Accreditation Council for Continuing Medical Education (ACCME) through the joint providership of the College of American Pathologists and the New York Pathological Society. The College of American Pathologists is accredited by the ACCME to provide continuing medical education for physicians. Credit Designation Statement: Must Read: The College of American Pathologists designates this live educational activity for a maximum of 2 AMA PRA Category 1 Credit(s)™. Physicians should claim only credit commensurate with the extent of their participation in the activity. Disclaimer: Must Read: The content of this CME activity does not necessarily reflect the view or policies of the College of American Pathologists. Learning Objectives: - Understand the landscape of available SARS-CoV-2 diagnostic tests and their use and interpretation in current clinical practice - Recognize obstacles to standing up, scaling up, and sustaining access to diagnostic testing that have faced clinical laboratories during the early part of the COVID-19 pandemic in the U.S. - Describe how the science of viral genomic epidemiology can be applied to improve our understanding of the spread of SARS-CoV-2 Organizer(s): Isabel Fiel, MD - President Nada Farhat, MD - Vice President Virginia M. Pierce- Speaker   A resident or fellow trainee qualifies for junior membership.
URL:https://nypathsociety.org/meeting/reflections-about-the-clinical-microbiology-laboratory-response-to-the-covid-19-pandemic-testing-science-and-making-it-work/
END:VEVENT
END:VCALENDAR
