BEGIN:VCALENDAR
VERSION:2.0
PRODID:Imitheme.com 
BEGIN:VEVENT
UID:20260424T0008211619175228
DTSTAMP;TZID=UTC:2026-04-24 00:08:21
DTSTART;TZID=America/Los_Angeles:20200917T000000
DTEND;TZID=America/Los_Angeles:20200917T000000
SUMMARY:How Epidemics/Pandemics and Outbreaks Make Lung Pathology so Fascinating
LOCATION:Zoom - Video Conference
DESCRIPTION: A resident or fellow trainee qualifies for junior membership.
URL:https://nypathsociety.org/meeting/how-epidemics-pandemics-and-outbreaks-make-lung-pathology-so-fascinating/
END:VEVENT
END:VCALENDAR
