BEGIN:VCALENDAR
VERSION:2.0
PRODID:Imitheme.com 
BEGIN:VEVENT
UID:20260424T015539515335329
DTSTAMP;TZID=UTC:2026-04-24 01:55:39
DTSTART;TZID=America/Los_Angeles:20200502T000000
DTEND;TZID=America/Los_Angeles:20200502T000000
SUMMARY:President Symposium May 2, 2020
LOCATION:131 E 76th Street\, NYC.
DESCRIPTION: 
URL:https://nypathsociety.org/meeting/president-symposium-may-2-2020/
END:VEVENT
END:VCALENDAR
