BEGIN:VCALENDAR
VERSION:2.0
PRODID:Imitheme.com 
BEGIN:VEVENT
UID:20260423T153428351500020
DTSTAMP;TZID=UTC:2026-04-23 15:34:28
DTSTART;TZID=America/Los_Angeles:20260502T000000
DTEND;TZID=America/Los_Angeles:20260502T000000
SUMMARY:The Jean Oliver President’s Symposium 2026
LOCATION:NY 10016
DESCRIPTION:Please email contact@nypathsociety.org if you are experiencing any issues.
URL:https://nypathsociety.org/meeting/the-jean-oliver-presidents-symposium-2026/
END:VEVENT
END:VCALENDAR
