BEGIN:VCALENDAR
VERSION:2.0
PRODID:Imitheme.com 
BEGIN:VEVENT
UID:20260423T134846170162772
DTSTAMP;TZID=UTC:2026-04-23 13:48:46
DTSTART;TZID=America/Los_Angeles:20251121T000000
DTEND;TZID=America/Los_Angeles:20251121T000000
SUMMARY:2025 FALL MINI-SYMPOSIUM & SOCIAL NETWORKING EVENT
LOCATION:
DESCRIPTION:Please email contact@nypathsociety.org if you are experiencing any issues.
URL:https://nypathsociety.org/meeting/2025-fall-mini-symposium-social-networking-event/
END:VEVENT
END:VCALENDAR
