BEGIN:VCALENDAR
VERSION:2.0
PRODID:Imitheme.com 
BEGIN:VEVENT
UID:20260423T1405021882979866
DTSTAMP;TZID=UTC:2026-04-23 14:05:02
DTSTART;TZID=America/Los_Angeles:20240504T000000
DTEND;TZID=America/Los_Angeles:20240504T000000
SUMMARY:The Jean Redmond Oliver President's Symposium 2024
LOCATION:131 E 76th Street\, NYC.
DESCRIPTION:In-Person Event ONLY  President Symposium Menu Options Complimentary Breakfast and Lunch Will Be Available. Please view the menu to decide your lunch option.    Please email contact@nypathsociety.org if you are experiencing any issues.
URL:https://nypathsociety.org/meeting/the-jean-redmond-oliver-presidents-symposium-2024/
END:VEVENT
END:VCALENDAR
