BEGIN:VCALENDAR
VERSION:2.0
PRODID:Imitheme.com
BEGIN:VEVENT
UID:20260423T234133-1798885451
DTSTAMP;TZID=UTC:1776987693
DTSTART;TZID=America/Los_Angeles:20190504T000000
DTEND;TZID=America/Los_Angeles:20190504T000000
SUMMARY:President Symposium May 4th, 2019
LOCATION:131 E 76th Street, NYC.
DESCRIPTION: To view / download presentations please login. Opening Ceremony Prostate Cancer Grading: From Gleason to a Contemporary New-Patient Centric Grading Jonathan Epstein, MD - The Johns Hopkins Hospital Download Presentation - Handout Whole Slide Imaging Meets Deep Learning: A Preview of the Future Michael D Feldman, MD - Hospital of the University of Pennsylvania Download Presentation Barrett\'s Esophagus: A Clinical and Pathologic Update Including New Technologies Robert Odze, MD Download Presentation PD1 and PDL1 Updates Robert A Anders, MD, PhD - The Johns Hopkins Hospital Download Presentation Update on Ovarian Tumors Robert H Young, MD - Harvard Medical School Download Presentation https://nypathsociety.org/meeting/presidents-symposium-may-4th-2019/
URL:https://nypathsociety.org/meeting/presidents-symposium-may-4th-2019/
END:VEVENT
END:VCALENDAR
