BEGIN:VCALENDAR
VERSION:2.0
PRODID:Imitheme.com
BEGIN:VEVENT
UID:20260424T051323-1397256028
DTSTAMP;TZID=UTC:1777007603
DTSTART;TZID=America/Los_Angeles:20190214T000000
DTEND;TZID=America/Los_Angeles:20190214T000000
SUMMARY:High Grade Endometrial Carcinoma: Spectrum and Differential Diagnosis
LOCATION:131 E 76th Street, NYC.
DESCRIPTION: Esther Oliva MD Mass General Hospital, Boston, MA Date: February 14th, 2019 To view / download presentations please login. Unknown cases High-grade Endometrial Endometroid Carcinoma https://nypathsociety.org/meeting/high-grade-endometrial-carcinoma-spectrum-and-differential-diagnosis/
URL:https://nypathsociety.org/meeting/high-grade-endometrial-carcinoma-spectrum-and-differential-diagnosis/
END:VEVENT
END:VCALENDAR
