BEGIN:VCALENDAR
VERSION:2.0
PRODID:Imitheme.com
BEGIN:VEVENT
UID:20260424T033452-406562682
DTSTAMP;TZID=UTC:1777001692
DTSTART;TZID=America/Los_Angeles:20190117T000000
DTEND;TZID=America/Los_Angeles:20190117T000000
SUMMARY:John Goldblum, MD - Professor of Pathology Cleveland Clinic, OH
LOCATION:131 E 76th Street, NYC.
DESCRIPTION: Date: January 18th, 2019 Professor of Pathology - Cleveland Clinic, OH To view / download presentations please login. Unknown cases Mesenchymal Tumors of the GI Tract Controversies in the Diagnosis of Barrett’s Esophagus and Barrett’s Related Dysplasia https://nypathsociety.org/meeting/john-goldblum-md-professor-of-pathology-cleveland-clinic-oh/
URL:https://nypathsociety.org/meeting/john-goldblum-md-professor-of-pathology-cleveland-clinic-oh/
END:VEVENT
END:VCALENDAR
