BEGIN:VCALENDAR
VERSION:2.0
PRODID:Imitheme.com
BEGIN:VEVENT
UID:20260424T004501-1064947146
DTSTAMP;TZID=UTC:1776991501
DTSTART;TZID=America/Los_Angeles:20181115T000000
DTEND;TZID=America/Los_Angeles:20181115T000000
SUMMARY:Evolving Classification and Diagnostic Concepts in Soft Tissue Tumors
LOCATION:131 E 76th Street, NYC.
DESCRIPTION: Christopher D.M. Fletcher MD FRCPath Brigham & Women\'s Hospital, Boston To view / download presentations please login. NY-Path-Soc-Slide-Sem-Nov-2018 - PDF https://nypathsociety.org/wp-content/uploads/2018/11/NYPS-Evolving-classification-Nov-2018.pdf - PDF https://nypathsociety.org/meeting/evolving-classification-and-diagnostic-concepts-in-soft-tissue-tumors/
URL:https://nypathsociety.org/meeting/evolving-classification-and-diagnostic-concepts-in-soft-tissue-tumors/
END:VEVENT
END:VCALENDAR
