BEGIN:VCALENDAR
VERSION:2.0
PRODID:Imitheme.com
BEGIN:VEVENT
UID:20260423T213305-1555108112
DTSTAMP;TZID=UTC:1776979985
DTSTART;TZID=America/Los_Angeles:20181018T000000
DTEND;TZID=America/Los_Angeles:20181018T000000
SUMMARY:Cystic lesions of Pancreas
LOCATION:131 E 76th Street, NYC.
DESCRIPTION: Michelle D Reid, MD Emory School of Medicine, Atlanta Location: Einhorn Auditorium of Lenox Hill Hospital, 131 E 76th Street, NYC Date: September 20, 2018 To view / download presentations please login.  Dr. Reid’s unknown slides https://nypathsociety.org/meeting/cystic-lesions-of-pancreas/
URL:https://nypathsociety.org/meeting/cystic-lesions-of-pancreas/
END:VEVENT
END:VCALENDAR
