BEGIN:VCALENDAR
VERSION:2.0
PRODID:Imitheme.com
BEGIN:VEVENT
UID:20260423T200245-391928348
DTSTAMP;TZID=UTC:1776974565
DTSTART;TZID=America/Los_Angeles:20180920T000000
DTEND;TZID=America/Los_Angeles:20180920T000000
SUMMARY:Viral Associated Neoplasms of Head and Neck
LOCATION:131 E 76th Street, NYC.
DESCRIPTION: Viral Associated Neoplasms of Head and Neck Bruce Wenig, MD Moffitt Cancer Center, Florida Location: Einhorn Auditorium of Lenox Hill Hospital, 131 E 76th Street, NYC Date: September 20, 2018 To view / download presentations please login.  Viral Associated Neoplasms of Head and Neck  Slide Seminar by Dr. Bruce Wenig https://nypathsociety.org/meeting/viral-associated-neoplasms-of-head-and-neck/
URL:https://nypathsociety.org/meeting/viral-associated-neoplasms-of-head-and-neck/
END:VEVENT
END:VCALENDAR
