BEGIN:VCALENDAR
VERSION:2.0
PRODID:Imitheme.com
BEGIN:VEVENT
UID:20260423T164839-1656062010
DTSTAMP;TZID=UTC:1776962919
DTSTART;TZID=America/Los_Angeles:20180505T000000
DTEND;TZID=America/Los_Angeles:20180505T000000
SUMMARY:Presidents’ Symposium 2018
LOCATION:131 E 76th Street, NYC.
DESCRIPTION: NY Pathological Society Presidents\' Symposium - AJCC Updates Saturday, May 5, 2018 Einhorn Auditorium of Lenox Hill Hospital - 131 E 76th Street, NYC To view / download presentations please login. 1        Breast Cancer Pathology: Updates to AJCC Staging and CAP Cancer Reporting PDF | PowerPoint Slides                   Patrick Fitzgibbons, MD - St Jude Medical Center in Fullerton, CA                  2        State of the American Board of Pathology PDF | PowerPoint Slides                   Rebecca L Johnson, MD - Chief Executive Officer, American Board of Pathology   3        Colorectal Carcinoma:  AJCC 8th Edition Updates and Ancillary Theranostic Testing PDF | PowerPoint Slides                   Reetesh Pai, MD - University of Pittsburgh Medical Center           4       Pathology in the Age of Social Media PDF | PowerPoint Slides                  Silvija P Gottesman, MD - Northwell Health LIJ                           5       Advancing the Diagnosis of Myeloid Neoplasms:  The 2016 WHO Classification PDF | PowerPoint Slides                   Robert Hasserjian, MD - Massachusetts General Hospital                   6       Changes to the AJCC Staging of Head & Neck Cancer:  Implication for the Surgical Pathologist PDF | PowerPoint Slides                   William H Westra, MD - Icahn School of Medicine at Mount Sinai Hospital                             7      Thoracic Pathology:  Help!  How do I Diagnose and Stage this Lung Cancer? PDF | PowerPoint Slides                   Henry Tazelaar, MD - Mayo Clinic                    https://nypathsociety.org/meeting/presidents-symposium-2018/
URL:https://nypathsociety.org/meeting/presidents-symposium-2018/
END:VEVENT
END:VCALENDAR
