BEGIN:VCALENDAR
VERSION:2.0
PRODID:Imitheme.com
BEGIN:VEVENT
UID:20260423T165232-1712487669
DTSTAMP;TZID=UTC:1776963152
DTSTART;TZID=America/Los_Angeles:20180329T000000
DTEND;TZID=America/Los_Angeles:20180329T000000
SUMMARY:Residents Forum
LOCATION:131 E 76th Street, NYC.
DESCRIPTION: Thursday, March 29, 2018 Einhorn Auditorium of Lenox Hill Hospital, 131 E 76th Street, NYChttps://nypathsociety.org/meeting/residents-forum/
URL:https://nypathsociety.org/meeting/residents-forum/
END:VEVENT
END:VCALENDAR
