BEGIN:VCALENDAR
VERSION:2.0
PRODID:Imitheme.com
BEGIN:VEVENT
UID:20260423T182548-1192845127
DTSTAMP;TZID=UTC:1776968748
DTSTART;TZID=America/Los_Angeles:20180208T000000
DTEND;TZID=America/Los_Angeles:20180208T000000
SUMMARY:The Continuing Dilemma of DCIS
LOCATION:131 E 76th Street, NYC.
DESCRIPTION: NY Pathological Society Stuart J Schnitt, MD - Chief of Breast Oncologic Pathology, Dana Farber/Brigham & Women\'s Cancer Center Date: Thursday, February 8, 2018 To view / download presentations please login. You can download the material for the presentation here: Case 1-NYPS-2-8-18 Case 2-NYPS-2-8-18 Case 3-NYPS-2-8-18 Case 4-NYPS-2-8-18 DCIS-NYPS-2-8-18 https://nypathsociety.org/meeting/the-continuing-dilemma-of-dcis/
URL:https://nypathsociety.org/meeting/the-continuing-dilemma-of-dcis/
END:VEVENT
END:VCALENDAR
