BEGIN:VCALENDAR
VERSION:2.0
PRODID:Imitheme.com
BEGIN:VEVENT
UID:20260423T230821-1289003055
DTSTAMP;TZID=UTC:1776985701
DTSTART;TZID=America/Los_Angeles:20180118T000000
DTEND;TZID=America/Los_Angeles:20180118T000000
SUMMARY:Pancreatic Cystic Lesions
LOCATION:131 E 76th Street, NYC.
DESCRIPTION: Pancreatic Cystic Lesions Date: January 18th, 2018 David S. Klimstra, MD Memorial Sloan-Kettering Cancer Center   Carlie S. Sigel, MD Memorial Sloan-Kettering Cancer Center To view / download presentations please login. Pancreas FNA of cystic lesions cases - PDF NYPS Cystic pancreas FNA - Docx  https://nypathsociety.org/meeting/pancreatic-cystic-lesions/
URL:https://nypathsociety.org/meeting/pancreatic-cystic-lesions/
END:VEVENT
END:VCALENDAR
