BEGIN:VCALENDAR
VERSION:2.0
PRODID:Imitheme.com
BEGIN:VEVENT
UID:20260423T165231-1724920068
DTSTAMP;TZID=UTC:1776963151
DTSTART;TZID=America/Los_Angeles:20171211T000000
DTEND;TZID=America/Los_Angeles:20171211T000000
SUMMARY:Residents Meeting
LOCATION:131 E 76th Street, NYC.
DESCRIPTION: Residents Meeting Date: December 11, 2017https://nypathsociety.org/meeting/residents-meeting/
URL:https://nypathsociety.org/meeting/residents-meeting/
END:VEVENT
END:VCALENDAR
