BEGIN:VCALENDAR
VERSION:2.0
PRODID:Imitheme.com
BEGIN:VEVENT
UID:20260423T195746-486789251
DTSTAMP;TZID=UTC:1776974266
DTSTART;TZID=America/Los_Angeles:20171109T000000
DTEND;TZID=America/Los_Angeles:20171109T000000
SUMMARY:Viral Hepatitis Biopsy Assessment in the Treatment Era: The Beijing Classification
LOCATION:131 E 76th Street, NYC.
DESCRIPTION: Date: November 9th, 2017 Neil Theise, MD NYU Langone Health To view / download presentations please login. Viral Hepatitis Biopsy Assessment in the treatment era: The Beijing Classification - Case Review Viral Hepatitis Biopsy Assessment in the treatment era: The Beijing Classification - Lecture https://nypathsociety.org/meeting/viral-hepatitis-biopsy-assessment-in-the-treatment-era-the-beijing-classification/
URL:https://nypathsociety.org/meeting/viral-hepatitis-biopsy-assessment-in-the-treatment-era-the-beijing-classification/
END:VEVENT
END:VCALENDAR
