BEGIN:VCALENDAR
VERSION:2.0
PRODID:Imitheme.com
BEGIN:VEVENT
UID:20260423T201853-1881925378
DTSTAMP;TZID=UTC:1776975533
DTSTART;TZID=America/Los_Angeles:20171019T000000
DTEND;TZID=America/Los_Angeles:20171019T000000
SUMMARY:Clinicopathologic and Genomic Classification of Endometrial Carcinoma
LOCATION:131 E 76th Street, NYC.
DESCRIPTION: Date: October 19th, 2017 Robert Soslow, MD Memorial Sloan Kettering Cancer Center To view / download presentations please login. Presentation - Clinicopathologic and Genomic Classification of Endometrial Cancer https://nypathsociety.org/meeting/clinicopathologic-and-genomic-classification-of-endometrial-carcinoma/
URL:https://nypathsociety.org/meeting/clinicopathologic-and-genomic-classification-of-endometrial-carcinoma/
END:VEVENT
END:VCALENDAR
