BEGIN:VCALENDAR
VERSION:2.0
PRODID:Imitheme.com
BEGIN:VEVENT
UID:20260423T220025-880227043
DTSTAMP;TZID=UTC:1776981625
DTSTART;TZID=America/Los_Angeles:20170925T000000
DTEND;TZID=America/Los_Angeles:20170925T000000
SUMMARY:What’s New in the WHO 2016 Classification of Urological Cancer
LOCATION:131 E 76th Street, NYC.
DESCRIPTION: What’s New in the WHO 2016 Classification of Urological Cancer Date: Sep 25th, 2017 Mahul B. Amin, MD University of Tennessee Health Sciences.https://nypathsociety.org/meeting/whats-new-in-the-who-2016-classification-of-urological-cancer/
URL:https://nypathsociety.org/meeting/whats-new-in-the-who-2016-classification-of-urological-cancer/
END:VEVENT
END:VCALENDAR
